View In:
ArcGIS JavaScript
ArcGIS Online Map Viewer
ArcGIS Earth
Service Description: Imagery/IMINT_Optical
Name: Imagery/IMINT_Optical
Description:
Single Fused Map Cache: false
Extent:
XMin: 2475528.1527292803
YMin: 5567190.227037517
XMax: 3744859.052729188
YMax: 7513426.727037376
Spatial Reference: 102100
(3857)
LatestVCSWkid(0)
Initial Extent:
XMin: 2475528.1527292803
YMin: 5567190.227037517
XMax: 3744859.052729188
YMax: 7513426.727037376
Spatial Reference: 102100
(3857)
LatestVCSWkid(0)
Full Extent:
XMin: 2475528.1527292803
YMin: 5567190.227037517
XMax: 3744859.052729188
YMax: 7513426.727037376
Spatial Reference: 102100
(3857)
LatestVCSWkid(0)
Time Info:
Start Time Field: StdTime
End Time Field: StdTime
Time Extent:
[2014/02/20 00:00:00 UTC, 2024/02/08 00:00:00 UTC]
Time Reference:
N/A
Pixel Size X: 0.2999999999999782
Pixel Size Y: 0.2999999999999782
Band Count: 4
Pixel Type: U8
RasterFunction Infos: {"rasterFunctionInfos": [
{
"name": "None",
"description": "Make a Raster or Raster Dataset into a Function Raster Dataset.",
"help": ""
},
{
"name": "Dataset",
"description": "A raster function template.",
"help": ""
},
{
"name": "ORTHO_DISPLAY",
"description": "A raster function template.",
"help": ""
},
{
"name": "PROJECTED_REFLECTANCE",
"description": "A raster function template.",
"help": ""
}
]}
Mensuration Capabilities: Basic,Base-Top Height,Base-Top Shadow Height,Top-Top Shadow Height
Inspection Capabilities:
Has Histograms: true
Has Colormap: false
Has Multi Dimensions : true
Rendering Rule:
Min Scale: 0
Max Scale: 0
Resampling: false
Copyright Text:
Service Data Type: esriImageServiceDataTypeGeneric
Min Values: 43.849609375, 49.3828125, 48.8203125, 50.12109375
Max Values: 22407.150390625, 25234.6171875, 24947.1796875, 25611.87890625
Mean Values: 159.99792425484236, 156.124216580696, 144.8962508328212, 260.06192379234454
Standard Deviation Values: 187.26897542637252, 220.25625784140695, 220.81499264700184, 239.0832082691187
Object ID Field: OBJECTID
Fields:
-
OBJECTID
(
type: esriFieldTypeOID, alias: OBJECTID, editable: false, nullable: false
)
-
Shape
(
type: esriFieldTypeGeometry, alias: Shape, editable: true, nullable: true
)
-
Name
(
type: esriFieldTypeString, alias: Name, editable: true, nullable: true, length: 200
)
-
MinPS
(
type: esriFieldTypeDouble, alias: MinPS, editable: true, nullable: true
)
-
MaxPS
(
type: esriFieldTypeDouble, alias: MaxPS, editable: true, nullable: true
)
-
LowPS
(
type: esriFieldTypeDouble, alias: LowPS, editable: true, nullable: true
)
-
HighPS
(
type: esriFieldTypeDouble, alias: HighPS, editable: true, nullable: true
)
-
Category
(
type: esriFieldTypeInteger, alias: Category, editable: false, nullable: true
, Coded Values:
[0: Unknown]
, [1: Primary]
, [2: Overview]
, ...6 more...
)
-
Tag
(
type: esriFieldTypeString, alias: Tag, editable: true, nullable: true, length: 100
)
-
GroupName
(
type: esriFieldTypeString, alias: GroupName, editable: true, nullable: true, length: 100
)
-
ProductName
(
type: esriFieldTypeString, alias: ProductName, editable: true, nullable: true, length: 100
)
-
CenterX
(
type: esriFieldTypeDouble, alias: CenterX, editable: true, nullable: true
)
-
CenterY
(
type: esriFieldTypeDouble, alias: CenterY, editable: true, nullable: true
)
-
ZOrder
(
type: esriFieldTypeInteger, alias: ZOrder, editable: true, nullable: true
)
-
date
(
type: esriFieldTypeDate, alias: date, editable: true, nullable: true, length: 8
)
-
AOI
(
type: esriFieldTypeString, alias: AOI, editable: true, nullable: true, length: 512
)
-
StdTime
(
type: esriFieldTypeDate, alias: Standard Time, editable: true, nullable: true, length: 8
)
-
Dimensions
(
type: esriFieldTypeString, alias: Dimensions, editable: true, nullable: true, length: 50
)
-
Variable
(
type: esriFieldTypeString, alias: Variable, editable: true, nullable: true, length: 50
)
-
SensorName
(
type: esriFieldTypeString, alias: Sensor Name, editable: true, nullable: true, length: 20
)
-
AcquisitionDate
(
type: esriFieldTypeDate, alias: Acquisition Date, editable: true, nullable: true, length: 8
)
-
SunAzimuth
(
type: esriFieldTypeDouble, alias: Sun Azimuth, editable: true, nullable: true
)
-
SunElevation
(
type: esriFieldTypeDouble, alias: Sun Elevation, editable: true, nullable: true
)
-
OffNadir
(
type: esriFieldTypeDouble, alias: OffNadir, editable: true, nullable: true
)
-
Shape_Length
(
type: esriFieldTypeDouble, alias: Shape_Length, editable: false, nullable: true
)
-
Shape_Area
(
type: esriFieldTypeDouble, alias: Shape_Area, editable: false, nullable: true
)
Default Mosaic Method: ByAttribute
Allowed Mosaic Methods: ByAttribute,NorthWest,Center,LockRaster,Nadir,Viewpoint,Seamline,None
SortField: StdTime
SortValue: 3000/01/01
Mosaic Operator: Last
Default Compression Quality: 75
Default Resampling Method: Bilinear
Max Record Count: 1000
Max Image Height: 4000
Max Image Width: 4000
Max Download Image Count: 20
Max Mosaic Image Count: 100
Allow Raster Function: true
Allow Copy: true
Allow Analysis: true
Allow Compute TiePoints: false
Supports Statistics: true
Supports Advanced Queries: true
Use StandardizedQueries: true
Raster Type Infos:
Name: Raster Dataset
Description: Supports all ArcGIS Raster Datasets
Help:
Has Raster Attribute Table: false
Edit Fields Info: null
Ownership Based AccessControl For Rasters: null
Child Resources:
Info
Histograms
Statistics
Key Properties
Legend
Raster Function Infos
Multidimensional Info
Slices
Supported Operations:
Export Image
Query
Identify
Download Rasters
Get Image Url
Add Rasters
Update Raster
Delete Rasters
Measure
Compute Histograms
Compute Statistics Histograms
Get Samples
Compute Class Statistics
Query GPS Info
Find Images
Image to Map
Map to Image
Measure from Image
Image to Map Multiray
Query Boundary
Compute Pixel Location
Compute Angles
Validate
Project